
BEGIN:VCALENDAR
VERSION:2.0
PRODID:-//wp-events-plugin.com//7.2.3.1//EN
TZID:Europe/Paris
X-WR-TIMEZONE:Europe/Paris
BEGIN:VEVENT
UID:1220@lareole.fr
DTSTART;TZID=Europe/Paris:20260123T190000
DTEND;TZID=Europe/Paris:20260123T220000
DTSTAMP:20251224T114449Z
URL:https://www.lareole.fr/evenements/voeux-a-la-population/
SUMMARY:Vœux à la population
DESCRIPTION:Monsieur le Maire ainsi que son Conseil Municipal seraient heur
 eux de vous recevoir au Gymnase Colette Besson le vendredi 23 janvier 2026
  à 19h pour la présentation des vœux.\n\nLa cérémonie sera suivie d
 ’un buffet. Animation musicale par les élèves du collège et du lycée
 .\n\nInsciption :\nhttps://docs.google.com/forms/d/1z0VK8dey0Bu7ik2x-RWjC
 kHI1xGc5QnfhBRSIUzdVnc/edit\n\nVenez nombreux !
ATTACH;FMTTYPE=image/jpeg:https://www.lareole.fr/wp-content/uploads/2025/1
 2/VOEUX-2026_150x100-scaled.jpg
CATEGORIES:Animation et fête locale,Musique
LOCATION:Gymnase Colette Besson\, Port Mahon\, La Réole\, 33190\, France
X-APPLE-STRUCTURED-LOCATION;VALUE=URI;X-ADDRESS=Port Mahon\, La Réole\, 33
 190\, France;X-APPLE-RADIUS=100;X-TITLE=Gymnase Colette Besson:geo:0,0
END:VEVENT
BEGIN:VTIMEZONE
TZID:Europe/Paris
X-LIC-LOCATION:Europe/Paris
BEGIN:STANDARD
DTSTART:20251026T020000
TZOFFSETFROM:+0200
TZOFFSETTO:+0100
TZNAME:CET
END:STANDARD
END:VTIMEZONE
END:VCALENDAR