
BEGIN:VCALENDAR
VERSION:2.0
PRODID:-//wp-events-plugin.com//7.2.3.1//EN
TZID:Europe/Paris
X-WR-TIMEZONE:Europe/Paris
BEGIN:VEVENT
UID:1280@lareole.fr
DTSTART;TZID=Europe/Paris:20260501T070000
DTEND;TZID=Europe/Paris:20260501T150000
DTSTAMP:20260423T083833Z
URL:https://www.lareole.fr/evenements/vide-grenier-et-fete-des-fleurs/
SUMMARY:Vide-grenier et Fête des fleurs
DESCRIPTION:Vide-grenier et Fête des Fleurs sur les quais Garonne. Buvette
  et petite restauration sur place.\n\nTarifs :\n\nLieu :\nQuais de Garonne
  Quais de Garonne 33190 LA REOLE\n\nOrganisateur :\nAnim'réolais\nEsplana
 de Charles de Gaulle 33190 La Réole\n\nContact :\n+33 6 27 07 37 54\nanim
 reolais.lareole@gmail.com\n\nThèmes :\nFleurs plantes\nVintage\n\nCatégo
 rie :\nVide greniers Braderie\n\nType de manifestation :\nAnimation et fê
 te locale
ATTACH;FMTTYPE=image/jpeg:https://www.lareole.fr/wp-content/uploads/2026/0
 4/Vide-grenier-marche-aux-fleurs.jpg
CATEGORIES:Animation et fête locale
END:VEVENT
BEGIN:VTIMEZONE
TZID:Europe/Paris
X-LIC-LOCATION:Europe/Paris
BEGIN:DAYLIGHT
DTSTART:20260329T030000
TZOFFSETFROM:+0100
TZOFFSETTO:+0200
TZNAME:CEST
END:DAYLIGHT
END:VTIMEZONE
END:VCALENDAR