
BEGIN:VCALENDAR
VERSION:2.0
PRODID:-//wp-events-plugin.com//7.2.3.1//EN
TZID:Europe/Paris
X-WR-TIMEZONE:Europe/Paris
BEGIN:VEVENT
UID:1215@lareole.fr
DTSTART;TZID=Europe/Paris:20251213T100000
DTEND;TZID=Europe/Paris:20251213T173000
DTSTAMP:20251204T160934Z
URL:https://www.lareole.fr/evenements/stage-expression-corporelle-et-plast
 ique/
SUMMARY:Stage expression corporelle et plastique
DESCRIPTION:La Petite Populaire accueille :\nStage présenté par Marie Noe
 l (illustratrice) et Emmanuelle Thomé (formation théâtre et expression 
 corporelle)\n+++\nun stage sur une journée pour permettre aux enfants de 
 s'exprimer librement\, de manière ludique et créative\, en établissant 
 un pont entre les arts plastiques et l'expression corporelle.\n+++\n10h-12
 h30 / 15h-17h30 Café de La Petite Populaire - La Réole\n+++\n30€ par e
 nfant\nRéservations : 06 34 96 02 24\n+++
ATTACH;FMTTYPE=image/jpeg:https://www.lareole.fr/wp-content/uploads/2025/1
 2/stage-expression.jpg
CATEGORIES:Divertissement
LOCATION:La Petite Populaire\, 33\, rue Armand Caduc \, La Réole\, 33190 \
 , France
X-APPLE-STRUCTURED-LOCATION;VALUE=URI;X-ADDRESS=33\, rue Armand Caduc \, La
  Réole\, 33190 \, France;X-APPLE-RADIUS=100;X-TITLE=La Petite Populaire:g
 eo:0,0
END:VEVENT
BEGIN:VTIMEZONE
TZID:Europe/Paris
X-LIC-LOCATION:Europe/Paris
BEGIN:STANDARD
DTSTART:20251026T020000
TZOFFSETFROM:+0200
TZOFFSETTO:+0100
TZNAME:CET
END:STANDARD
END:VTIMEZONE
END:VCALENDAR