
BEGIN:VCALENDAR
VERSION:2.0
PRODID:-//wp-events-plugin.com//7.2.3.1//EN
TZID:Europe/Paris
X-WR-TIMEZONE:Europe/Paris
BEGIN:VEVENT
UID:1236@lareole.fr
DTSTART;TZID=Europe/Paris:20260130T190000
DTEND;TZID=Europe/Paris:20260130T200000
DTSTAMP:20260118T075227Z
URL:https://www.lareole.fr/evenements/rencontre-a-la-libraire-la-folie-en-
 tete/
SUMMARY:Rencontre à la libraire La Folie en Tête
DESCRIPTION:Rencontre avec BEATA UMUBYEYI MAIRESSE\, romancière\, poétess
 e\, essayiste\, le VENDREDI 30 JANVIER à 19h. Elle nous parlera de son oe
 uvre ancrée dans le pays de son enfance\, le Rwanda. Nous reviendrons en 
 particulier sur son plus récent ouvrage\, désormais disponible en poche:
  Le Convoi. Ce récit\, mûri pendant 15 ans\, est celui de sa fuite en ju
 in 1994 hors du Rwanda\, avec sa mère\, dans un convoi de l'ONG Terre des
  Hommes\, grâce auquel elles survécurent au génocide des Tutsis.
ATTACH;FMTTYPE=image/jpeg:https://www.lareole.fr/wp-content/uploads/2025/1
 2/librairie.jpg
CATEGORIES:Culturelle
LOCATION:Librairie La Folie en Tête\, 32 rue André Bénac\, La Réole\, 3
 3190\, France
X-APPLE-STRUCTURED-LOCATION;VALUE=URI;X-ADDRESS=32 rue André Bénac\, La R
 éole\, 33190\, France;X-APPLE-RADIUS=100;X-TITLE=Librairie La Folie en T
 ête:geo:0,0
END:VEVENT
BEGIN:VTIMEZONE
TZID:Europe/Paris
X-LIC-LOCATION:Europe/Paris
BEGIN:STANDARD
DTSTART:20251026T020000
TZOFFSETFROM:+0200
TZOFFSETTO:+0100
TZNAME:CET
END:STANDARD
END:VTIMEZONE
END:VCALENDAR