
BEGIN:VCALENDAR
VERSION:2.0
PRODID:-//wp-events-plugin.com//7.2.3.1//EN
TZID:Europe/Paris
X-WR-TIMEZONE:Europe/Paris
BEGIN:VEVENT
UID:1219@lareole.fr
DTSTART;TZID=Europe/Paris:20251216T180000
DTEND;TZID=Europe/Paris:20251216T193000
DTSTAMP:20251209T163529Z
URL:https://www.lareole.fr/evenements/pont-du-rouergue-reunion-publique-or
 ganisee-par-le-departement/
SUMMARY:Pont du Rouergue | Réunion publique organisée par le département
DESCRIPTION:Réunion publique organisée par le Département de la Gironde 
 au sujet du pont du Rouergue\n\n→ Salle de l’Amicale Laïque\, avenue 
 Gabriel Chaigne\, La Réole\n\nNous vous informons que le Département org
 anise une réunion le 16 décembre 2025 à 18h\,\ndans la salle de l’Ami
 cale Laïque à La Réole.\n\nLors de cette réunion\, le Département de 
 la Gironde présentera :\n→ Le bilan de la concertation citoyenne réali
 sée du 14 juin au 14 juillet\n→ Les suites données au projet de rénov
 ation du Pont du Rouergue
ATTACH;FMTTYPE=image/jpeg:https://www.lareole.fr/wp-content/uploads/2025/1
 2/pont.jpg
LOCATION:Amicale laïque (Salle municipale de La Réole)\, Avenue Gabriel C
 haigne\, La Réole\, 33190\, France
X-APPLE-STRUCTURED-LOCATION;VALUE=URI;X-ADDRESS=Avenue Gabriel Chaigne\, La
  Réole\, 33190\, France;X-APPLE-RADIUS=100;X-TITLE=Amicale laïque (Salle
  municipale de La Réole):geo:0,0
END:VEVENT
BEGIN:VTIMEZONE
TZID:Europe/Paris
X-LIC-LOCATION:Europe/Paris
BEGIN:STANDARD
DTSTART:20251026T020000
TZOFFSETFROM:+0200
TZOFFSETTO:+0100
TZNAME:CET
END:STANDARD
END:VTIMEZONE
END:VCALENDAR