
BEGIN:VCALENDAR
VERSION:2.0
PRODID:-//wp-events-plugin.com//7.2.3.1//EN
TZID:Europe/Paris
X-WR-TIMEZONE:Europe/Paris
BEGIN:VEVENT
UID:1214@lareole.fr
DTSTART;TZID=Europe/Paris:20251207T140000
DTEND;TZID=Europe/Paris:20251207T170000
DTSTAMP:20251204T160859Z
URL:https://www.lareole.fr/evenements/game-pop-apres-midi-jeux-videos/
SUMMARY:GAME POP : Après midi jeux vidéos
DESCRIPTION:Nouveau rendez-vous régulier pour les amateurs de jeux vidéos
  !\nMario Kart\, rétro-gaming\, venez tester tout cela !\nSous la houlett
 e d'une équipe de bénévoles de La Petite Populaire !\nLes prochains ren
 dez-vous :\nDim 07 décembre 2025\nDim 08 février 2026\n+++\n▬ ASSOCIAT
 ION LA PETITE POPULAIRE\n📍 33\, rue Armand Caduc 33190 La Réole\n🛠
 ️ Programmations artistiques\, résidences\, créations\, sensibilisatio
 n\, action culturelle\, médiation...\n🏫 Tiers-lieu hybride\, café ass
 ociatif\, bureaux\, espaces partagés\, boutique culturelle\, ateliers\, c
 ours\, réunions..\n+++\n☎️ 06 75 75 31 36 (SMS)\n✉️ lapetitepopul
 aire@gmail.com\n+++\nSiret : 82469875700021\nAPE : 9001Z\nLicences d'entre
 preneur du spectacle : N°2 LD20-006246 / N°3 L-R-21-003199
ATTACH;FMTTYPE=image/jpeg:https://www.lareole.fr/wp-content/uploads/2025/1
 2/retrogaming-jeux-video-retro-1.jpg
CATEGORIES:Divertissement
LOCATION:La Petite Populaire\, 33\, rue Armand Caduc \, La Réole\, 33190 \
 , France
X-APPLE-STRUCTURED-LOCATION;VALUE=URI;X-ADDRESS=33\, rue Armand Caduc \, La
  Réole\, 33190 \, France;X-APPLE-RADIUS=100;X-TITLE=La Petite Populaire:g
 eo:0,0
END:VEVENT
BEGIN:VTIMEZONE
TZID:Europe/Paris
X-LIC-LOCATION:Europe/Paris
BEGIN:STANDARD
DTSTART:20251026T020000
TZOFFSETFROM:+0200
TZOFFSETTO:+0100
TZNAME:CET
END:STANDARD
END:VTIMEZONE
END:VCALENDAR