
BEGIN:VCALENDAR
VERSION:2.0
PRODID:-//wp-events-plugin.com//7.2.3.1//EN
TZID:Europe/Paris
X-WR-TIMEZONE:Europe/Paris
BEGIN:VEVENT
UID:1227@lareole.fr
DTSTART;TZID=Europe/Paris:20260130T190000
DTEND;TZID=Europe/Paris:20260130T220000
DTSTAMP:20260110T143552Z
URL:https://www.lareole.fr/evenements/concert-tzz-featuring-melanie-loisel
 /
SUMMARY:Concert : TZZ featuring MELANIE LOISEL
DESCRIPTION:Concert : TZZ featuring Mélanie Loisel &amp\; Frédéric Manci
 ni\nVen 30 Janvier 2026 - 19h\nPrix libre\n+++\nTZZ est un duo fondé par 
 Frédéric Mancini (deux boules Vanille) et Mélanie Loisel (Borguefül).\
 nTZZ\, c'est un délicieux équilibre de voix\, synthétiseur modulaire et
  basse électrique. Ce sont de longues traversées\, accidentées de modul
 ations\, craquèlements\, bleeps\, tensions percussives d'où coule un cha
 nt. Immergées dans une musique technoïde malicieuse et virevoltante\, le
 s ritournelles entêtantes et distorsionnées se fraient un chemin.\n+++\n
 ▬ ASSOCIATION LA PETITE POPULAIRE\n📍 33\, rue Armand Caduc 33190 La R
 éole\n🛠️ Programmations artistiques\, résidences\, créations\, sen
 sibilisation\, action culturelle\, médiation...\n🏫 Tiers-lieu hybride\
 , café associatif\, bureaux\, espaces partagés\, boutique culturelle\, a
 teliers\, cours\, réunions..\n+++\n☎️ 06 75 75 31 36 (SMS)\n✉️ la
 petitepopulaire@gmail.com\n+++\nSiret : 82469875700021\nAPE : 9001Z\nLicen
 ces d'entrepreneur du spectacle : N°2 LD20-006246 / N°3 L-R-21-003199
ATTACH;FMTTYPE=image/jpeg:https://www.lareole.fr/wp-content/uploads/2026/0
 1/fOxGR10fH_Q.jpg
CATEGORIES:Musique
LOCATION:La Petite Populaire\, 33\, rue Armand Caduc \, La Réole\, 33190 \
 , France
X-APPLE-STRUCTURED-LOCATION;VALUE=URI;X-ADDRESS=33\, rue Armand Caduc \, La
  Réole\, 33190 \, France;X-APPLE-RADIUS=100;X-TITLE=La Petite Populaire:g
 eo:0,0
END:VEVENT
BEGIN:VTIMEZONE
TZID:Europe/Paris
X-LIC-LOCATION:Europe/Paris
BEGIN:STANDARD
DTSTART:20251026T020000
TZOFFSETFROM:+0200
TZOFFSETTO:+0100
TZNAME:CET
END:STANDARD
END:VTIMEZONE
END:VCALENDAR