
BEGIN:VCALENDAR
VERSION:2.0
PRODID:-//wp-events-plugin.com//7.2.3.1//EN
TZID:Europe/Paris
X-WR-TIMEZONE:Europe/Paris
BEGIN:VEVENT
UID:1225@lareole.fr
DTSTART;TZID=Europe/Paris:20260123T190000
DTEND;TZID=Europe/Paris:20260123T210000
DTSTAMP:20260110T143456Z
URL:https://www.lareole.fr/evenements/concert-performance-julia-hanadi-al-
 abed-musique-electro-acoustique/
SUMMARY:Concert-performance : JULIA HANADI AL-ABED  (musique electro-acoust
 ique)
DESCRIPTION:Pour le premier concert de 2026\, ous sommes ravis de vous pré
 senter (enfin!) le travail de JULIA HANADI AL-ABED au Club de La Petite Po
 pulaire !\nJULIA HANADI AL-ABED (Vaisseau ElecrtoOorganique)\nPrix libre\n
 C'est en chantant\, enregistreur à la main que Julia Hanadi Al abed devie
 ndra adepte de l'écriture acousmatique et s'attachera à l'enregistrement
  de terrain. Voix\, Field recordings et Corps sonores composent l'essence 
 de ses créations\, entremêlant les modes de jeux possibles par le biais 
 de technologies lo-­fi ou hi­-tech. En concert\, ce sont aussi les jeux 
 de rétro-actions sonores et autres dispositifs électriques qui tracent l
 e sillon de l'écoute.\nhttps://www.youtube.com/watch?v=uWkLl1Nmt-s\nhttp:
 //juliahanadialabed.blogspot.com/\nhttps://soundcloud.com/dzoudzou\n+++\n
 ▬ ASSOCIATION LA PETITE POPULAIRE\n📍 33\, rue Armand Caduc 33190 La R
 éole\n🛠️ Programmations artistiques\, résidences\, créations\, sen
 sibilisation\, action culturelle\, médiation...\n🏫 Tiers-lieu hybride\
 , café associatif\, bureaux\, espaces partagés\, boutique culturelle\, a
 teliers\, cours\, réunions..\n+++\n☎️ 06 75 75 31 36 (SMS)\n✉️ la
 petitepopulaire@gmail.com\n+++\nSiret : 82469875700021\nAPE : 9001Z\nLicen
 ces d'entrepreneur du spectacle : N°2 LD20-006246 / N°3 L-R-21-003199
ATTACH;FMTTYPE=image/jpeg:https://www.lareole.fr/wp-content/uploads/2026/0
 1/JULIAHAA.jpg
CATEGORIES:Musique
LOCATION:La Petite Populaire\, 33\, rue Armand Caduc \, La Réole\, 33190 \
 , France
X-APPLE-STRUCTURED-LOCATION;VALUE=URI;X-ADDRESS=33\, rue Armand Caduc \, La
  Réole\, 33190 \, France;X-APPLE-RADIUS=100;X-TITLE=La Petite Populaire:g
 eo:0,0
END:VEVENT
BEGIN:VTIMEZONE
TZID:Europe/Paris
X-LIC-LOCATION:Europe/Paris
BEGIN:STANDARD
DTSTART:20251026T020000
TZOFFSETFROM:+0200
TZOFFSETTO:+0100
TZNAME:CET
END:STANDARD
END:VTIMEZONE
END:VCALENDAR