
BEGIN:VCALENDAR
VERSION:2.0
PRODID:-//wp-events-plugin.com//7.2.3.1//EN
TZID:Europe/Paris
X-WR-TIMEZONE:Europe/Paris
BEGIN:VEVENT
UID:1229@lareole.fr
DTSTART;TZID=Europe/Paris:20260224T203000
DTEND;TZID=Europe/Paris:20260224T230000
DTSTAMP:20260110T143733Z
URL:https://www.lareole.fr/evenements/cine-palabres-la-moindre-des-choses-
 1996-documentaire/
SUMMARY:Ciné-palabres : LA MOINDRE DES CHOSES (1996\, documentaire)
DESCRIPTION:La Petite Populaire\, l'Ecran réolais\, Chapeau et bottes pré
 sentent ce nouveau ciné-palabres !\nProjection au Cinéma Rex de La Réol
 e suivi d'une discussion avec des intervenants au café de La Petite Popul
 aire à La Réole\nÀ deux heures de Paris\, la clinique psychiatrique de 
 La Borde n'est pas une institution ordinaire. Ici\, le premier des droits 
 est celui de vagabonder. Pas de blouses blanches non plus. Rien qui ne dis
 tingue à priori les soignants des soignés. Chaque année\, le 15 août\,
  pensionnaires et soignants se rassemblent pour jouer une pièce de théâ
 tre. Cette année\, il s'agit d'une comédie de Witold Gombrowicz\, Opére
 tte\, avec des parties chantées\, des musiciens et\, au milieu\, un grand
  bal costumé.\n+++\nLa Clinique de la Borde (SE Clinique de Cour-Cheverny
 ) a été fondée en 1953 par le docteur Jean OURY\, neuropsychiatre de re
 nommée internationale. Elle accueille 107 patients en hospitalisation com
 plète\, sous le régime de l'hospitalisation libre\, et 30 patients en ho
 spitalisation de jour. Elle est conventionnée. Située dans le Loir et Ch
 er\, à 15 km de la ville de Blois\, elle occupe depuis sa création un ch
 âteau du XIXème siècle avec ses dépendances\, dans un parc arboré de 
 23 hectares\, des nouveaux pavillons s'y étant ajoutés à des époques d
 ifférentes (le dernier en 2011) en raison du développement de l'activit
 é.\nLa création de la Clinique de la Borde trouve sa place dans un mouve
 ment de réforme de la psychiatrie s'étant développé en France dans l'a
 près-guerre\, à partir d'une critique radicale des conditions asilaires\
 , et d'une lutte contre la ségrégation. Parmi les protagonistes\, citons
  les docteurs : Paul Balvet\, Georges Daumezon\, Lucien Bonnafé\, Franço
 is Tosquelle (ce dernier s'étant réfugié en France après la victoire d
 u Franquisme)\, et Jean Oury. Ce mouvement d'humanisation de la psychiatri
 e et de transformation profonde de l'Hôpital\, qui occupe la seconde moit
 ié du XXème siècle\, distingue la situation française du cas italien (
 suite à la fameuse "Loi 180" de 1977\, inspirée par le psychiatre Franco
  Basaglia\, prônant la fermeture des hôpitaux psychiatriques). Ses orien
 tations théoriques et sa pratique s'opposent en même temps à celles de 
 l'anti-psychiatrie du modèle anglo-saxon. La psychanalyse joue un rôle d
 écisif dans l 'élaboration d'une clinique des psychoses\, ainsi que dans
  l'approche du sujet\, de son vécu et de son histoire.\n+++\n▬ ASSOCIAT
 ION LA PETITE POPULAIRE\n📍 33\, rue Armand Caduc 33190 La Réole\n🛠
 ️ Programmations artistiques\, résidences\, créations\, sensibilisatio
 n\, action culturelle\, médiation...\n🏫 Tiers-lieu hybride\, café ass
 ociatif\, bureaux\, espaces partagés\, boutique culturelle\, ateliers\, c
 ours\, réunions..\n+++\n☎️ 06 75 75 31 36 (SMS)\n✉️ lapetitepopul
 aire@gmail.com\n+++\nSiret : 82469875700021\nAPE : 9001Z\nLicences d'entre
 preneur du spectacle : N°2 LD20-006246 / N°3 L-R-21-003199
ATTACH;FMTTYPE=image/jpeg:https://www.lareole.fr/wp-content/uploads/2026/0
 1/LA-MOINDRE-DES-CHOSES.jpg
CATEGORIES:Cinéma
LOCATION:Cinéma\, Place de La Libération\, La Réole\, 33190\, France
X-APPLE-STRUCTURED-LOCATION;VALUE=URI;X-ADDRESS=Place de La Libération\, L
 a Réole\, 33190\, France;X-APPLE-RADIUS=100;X-TITLE=Cinéma:geo:0,0
END:VEVENT
BEGIN:VTIMEZONE
TZID:Europe/Paris
X-LIC-LOCATION:Europe/Paris
BEGIN:STANDARD
DTSTART:20251026T020000
TZOFFSETFROM:+0200
TZOFFSETTO:+0100
TZNAME:CET
END:STANDARD
END:VTIMEZONE
END:VCALENDAR