
BEGIN:VCALENDAR
VERSION:2.0
PRODID:-//wp-events-plugin.com//7.2.3.1//EN
TZID:Europe/Paris
X-WR-TIMEZONE:Europe/Paris
BEGIN:VEVENT
UID:1216@lareole.fr
DTSTART;TZID=Europe/Paris:20251220T160000
DTEND;TZID=Europe/Paris:20251220T190000
DTSTAMP:20251204T160959Z
URL:https://www.lareole.fr/evenements/atelier-legographic-sur-texteile-ave
 c-spig/
SUMMARY:Atelier legographic sur texteile avec SPIG !
DESCRIPTION:Nouvelle version des Apéro-lino avec l'artiste SPIG !\nLes Ap
 éro-Lego-Graphic ! Et cette fois-ci sur textiles\, T-shirts etc !!\nMême
  principe que la linogravure mais avec des plaques de lego !\nVenez tester
  la chose c'est superbe !\nInscriptions : lapetitepopulaire@gmail.com / 12
 € par personne (amenez vos textiles\, vous repartez avec votre impressio
 n !)\n+++\n▬ ASSOCIATION LA PETITE POPULAIRE\n📍 33\, rue Armand Caduc
  33190 La Réole\n🛠️ Programmations artistiques\, résidences\, créa
 tions\, sensibilisation\, action culturelle\, médiation...\n🏫 Tiers-li
 eu hybride\, café associatif\, bureaux\, espaces partagés\, boutique cul
 turelle\, ateliers\, cours\, réunions..\n+++\n☎️ 06 75 75 31 36 (SMS)
 \n✉️ lapetitepopulaire@gmail.com\n+++\nSiret : 82469875700021\nAPE : 9
 001Z\nLicences d'entrepreneur du spectacle : N°2 LD20-006246 / N°3 L-R-2
 1-003199
ATTACH;FMTTYPE=image/jpeg:https://www.lareole.fr/wp-content/uploads/2025/1
 2/2025-aperoLego-T-Shirt-A.jpg
CATEGORIES:Exposition
LOCATION:La Petite Populaire\, 33\, rue Armand Caduc \, La Réole\, 33190 \
 , France
X-APPLE-STRUCTURED-LOCATION;VALUE=URI;X-ADDRESS=33\, rue Armand Caduc \, La
  Réole\, 33190 \, France;X-APPLE-RADIUS=100;X-TITLE=La Petite Populaire:g
 eo:0,0
END:VEVENT
BEGIN:VTIMEZONE
TZID:Europe/Paris
X-LIC-LOCATION:Europe/Paris
BEGIN:STANDARD
DTSTART:20251026T020000
TZOFFSETFROM:+0200
TZOFFSETTO:+0100
TZNAME:CET
END:STANDARD
END:VTIMEZONE
END:VCALENDAR